Felt | Verdi |
AlreadyApplied | True |
Aperture | 4.0 |
ApertureValue | 4.0 |
ApproximateFocusDistance | 8.16 |
AutoLateralCA | 1 |
BitsPerSample | 8 |
Blacks2012 | 0 |
BlueHue | 0 |
BlueSaturation | 0 |
CameraProfile | Adobe Standard |
CircleOfConfusion | 0.009 mm |
Clarity2012 | +16 |
ColorComponents | 3 |
ColorGradeBlending | 50 |
ColorGradeGlobalHue | 0 |
ColorGradeGlobalLum | 0 |
ColorGradeGlobalSat | 0 |
ColorGradeHighlightLum | 0 |
ColorGradeMidtoneHue | 0 |
ColorGradeMidtoneLum | 0 |
ColorGradeMidtoneSat | 0 |
ColorGradeShadowLum | 0 |
ColorNoiseReduction | 0 |
ColorSpace | sRGB |
ColorTemperature | 5400 |
ColorTransform | YCbCr |
Contrast2012 | +17 |
CreateDate (1) | 2024:04:05 14:20:06.07+01:00 |
CreateDate | 2024:04:05 14:20:06 |
CreatorTool | Adobe Photoshop Lightroom Classic 11.3.1 (Macintosh) |
CropAngle | 0 |
CropBottom | 0.541358 |
CropConstrainToWarp | 0 |
CropLeft | 0.314104 |
CropRight | 0.61189 |
CropTop | 0.243572 |
CustomRendered | Normal |
DateCreated (1) | 2024:04:05 |
DateCreated | 2024:04:05 14:20:06.07+01:00 |
DateTimeOriginal | 2024:04:05 14:20:06 |
DefringeGreenAmount | 0 |
DefringeGreenHueHi | 60 |
DefringeGreenHueLo | 40 |
DefringePurpleAmount | 0 |
DefringePurpleHueHi | 70 |
DefringePurpleHueLo | 30 |
Dehaze | +11 |
DistortionCorrectionAlreadyApplied | True |
DOF | 0.12 m (8.10 - 8.22 m) |
Exposure2012 | +0.40 |
ExposureCompensation | +1/3 |
ExposureMode | Auto |
ExposureProgram | Aperture-priority AE |
ExposureTime | 1/500 |
Firmware | 1.8.1 |
Flash | No Flash |
FlashCompensation | 0 |
FNumber | 4.0 |
FocalLength | 200.0 mm |
FocalLength35efl | 200.0 mm (35 mm equivalent: 671.8 mm) |
Format | image/jpeg |
FOV | 3.1 deg |
GrainAmount | 0 |
GreenHue | 0 |
GreenSaturation | 0 |
HasCrop | True |
HasSettings | True |
Highlights2012 | 0 |
HueAdjustmentAqua | 0 |
HueAdjustmentBlue | 0 |
HueAdjustmentGreen | 0 |
HueAdjustmentMagenta | 0 |
HueAdjustmentOrange | 0 |
HueAdjustmentPurple | 0 |
HueAdjustmentRed | 0 |
HueAdjustmentYellow | 0 |
HyperfocalDistance | 1117.98 m |
ImageHeight | 1086 |
ImageNumber | 0 |
ImageSize | 1629x1086 |
ImageWidth | 1629 |
ISO | 100 |
LateralChromaticAberrationCorrectionAlreadyApplied | True |
Lens | RF70-200mm F4 L IS USM |
LensID (1) | 61182 |
LensID | Canon RF 50mm F1.2 L USM + 1.4x |
LensInfo | 70-200mm f/? |
LensManualDistortionAmount | 0 |
LensModel | RF70-200mm F4 L IS USM |
LensProfileDistortionScale | 100 |
LensProfileEnable | 1 |
LensProfileFilename | Canon (Canon RF 24-70mm F2.8 L IS USM) - RAW.lcp |
LensProfileIsEmbedded | False |
LensProfileName | Adobe (Canon RF 24-70mm F2.8 L IS USM) |
LensProfileSetup | Custom |
LensProfileVignettingScale | 100 |
LensSerialNumber | 1833000168 |
LightValue | 13.0 |
LookAmount | 1 |
LookGroup | Profiles |
LookName | Adobe Color |
LookParametersCameraProfile | Adobe Standard |
LookParametersConvertToGrayscale | False |
LookParametersLookTable | E1095149FDB39D7A057BAB208837E2E1 |
LookParametersProcessVersion | 11.0 |
LookParametersToneCurvePV2012 | 0, 0, 22, 16, 40, 35, 127, 127, 224, 230, 240, 246, 255, 255 |
LookParametersToneCurvePV2012Blue | 0, 0, 255, 255 |
LookParametersToneCurvePV2012Green | 0, 0, 255, 255 |
LookParametersToneCurvePV2012Red | 0, 0, 255, 255 |
LookParametersVersion | 14.3 |
LookSupportsAmount | false |
LookSupportsMonochrome | false |
LookSupportsOutputReferred | false |
LuminanceAdjustmentAqua | 0 |
LuminanceAdjustmentBlue | 0 |
LuminanceAdjustmentGreen | 0 |
LuminanceAdjustmentMagenta | 0 |
LuminanceAdjustmentOrange | 0 |
LuminanceAdjustmentPurple | 0 |
LuminanceAdjustmentRed | 0 |
LuminanceAdjustmentYellow | 0 |
LuminanceSmoothing | 0 |
Make | Canon |
MaxApertureValue | 4.0 |
Megapixels | 1.8 |
MeteringMode | Multi-segment |
Model | Canon EOS R6 |
ModifyDate (1) | 2024:04:05 14:09:45+02:00 |
ModifyDate | 2024:04:05 14:09:45 |
OverrideLookVignette | False |
ParametricDarks | 0 |
ParametricHighlights | 0 |
ParametricHighlightSplit | 75 |
ParametricLights | 0 |
ParametricMidtoneSplit | 50 |
ParametricShadows | 0 |
ParametricShadowSplit | 25 |
PerspectiveAspect | 0 |
PerspectiveHorizontal | 0 |
PerspectiveRotate | 0.0 |
PerspectiveScale | 100 |
PerspectiveUpright | 0 |
PerspectiveVertical | 0 |
PerspectiveX | 0.00 |
PerspectiveY | 0.00 |
PostCropVignetteAmount | 0 |
PreservedFileName | R6__0133.CR3 |
ProcessVersion | 11.0 |
ProfileDescription | sRGB IEC61966-2.1 |
RawFileName | R6__0133.CR3 |
RecommendedExposureIndex | 100 |
RedHue | 0 |
RedSaturation | 0 |
Saturation | 0 |
SaturationAdjustmentAqua | 0 |
SaturationAdjustmentBlue | 0 |
SaturationAdjustmentGreen | 0 |
SaturationAdjustmentMagenta | 0 |
SaturationAdjustmentOrange | 0 |
SaturationAdjustmentPurple | 0 |
SaturationAdjustmentRed | 0 |
SaturationAdjustmentYellow | 0 |
ScaleFactor35efl | 3.4 |
SceneCaptureType | Standard |
SensitivityType | Recommended Exposure Index |
SerialNumber | 103022000755 |
Shadows2012 | +56 |
ShadowTint | 0 |
SharpenDetail | 30 |
SharpenEdgeMasking | 59 |
SharpenRadius | +0.6 |
Sharpness | 40 |
ShutterSpeed | 1/500 |
ShutterSpeedValue | 1/500 |
Software | Adobe Photoshop Lightroom Classic 11.3.1 (Macintosh) |
SplitToningBalance | 0 |
SplitToningHighlightHue | 0 |
SplitToningHighlightSaturation | 0 |
SplitToningShadowHue | 0 |
SplitToningShadowSaturation | 0 |
Texture | +15 |
Tint | +6 |
ToneCurveName2012 | Linear |
ToneCurvePV2012 | 0, 0, 255, 255 |
ToneCurvePV2012Blue | 0, 0, 255, 255 |
ToneCurvePV2012Green | 0, 0, 255, 255 |
ToneCurvePV2012Red | 0, 0, 255, 255 |
Version | 14.3 |
Vibrance | 0 |
VignetteAmount | 0 |
VignetteCorrectionAlreadyApplied | True |
WhiteBalance (1) | As Shot |
WhiteBalance | Auto |
Whites2012 | 0 |